BEGIN:VCALENDAR
PRODID:-//eluceo/ical//2.0/EN
VERSION:2.0
CALSCALE:GREGORIAN
BEGIN:VEVENT
UID:f27b6e7e318c30aa32456324f7432647
DTSTAMP:20260422T111855Z
SUMMARY:Rhodes Welcome Reception
DESCRIPTION:Hillels of Memphis\nUpcoming Events\nhttps://hillelsofmemphis.o
 rg/upcoming-events/rhodes-welcome-reception\n\nMeet new incoming Jewish st
 udents\, faculty\, and staff at Rhodes Hillel Welcome Reception! Featuring
  Pres. Dr. Marjorie Hass
DTSTART;TZID=America/Chicago:20190815T170000
DTEND;TZID=America/Chicago:20190815T183000
END:VEVENT
END:VCALENDAR
